BEGIN:VCALENDAR
VERSION:2.0
PRODID:spatie/icalendar-generator
DESCRIPTION:Events from TNOTA
X-WR-CALDESC:Events from TNOTA
REFRESH-INTERVAL;VALUE=DURATION:PT1440M
X-PUBLISHED-TTL:PT1440M
BEGIN:VTIMEZONE
TZID:America/Chicago
BEGIN:STANDARD
DTSTART:20251102T020000Z
TZOFFSETFROM:-0500
TZOFFSETTO:-0600
END:STANDARD
BEGIN:DAYLIGHT
DTSTART:20260308T020000Z
TZOFFSETFROM:-0600
TZOFFSETTO:-0500
END:DAYLIGHT
BEGIN:STANDARD
DTSTART:20261101T020000Z
TZOFFSETFROM:-0500
TZOFFSETTO:-0600
END:STANDARD
END:VTIMEZONE
BEGIN:VTIMEZONE
TZID:UTC
BEGIN:STANDARD
DTSTART:20250726T105322Z
TZOFFSETFROM:+0000
TZOFFSETTO:+0000
END:STANDARD
END:VTIMEZONE
BEGIN:VEVENT
UID:119-73
DTSTAMP:20260422T105322Z
SUMMARY:Effects of Long-COVID Implications for Occupational Therapy Practic
 e
LOCATION:Virtual Meeting via Aspire OT
ORGANIZER;CN=TNOTA Support:MAILTO:zack@gpsforgrowth.com
DTSTART;TZID=America/Chicago:20260722T190000
DTEND;TZID=America/Chicago:20260722T203000
X-ALT-DESC;FMTTYPE=TEXT/HTML:<p>This presentation highlights the role of oc
 cupational therapy in supporting individuals with Long COVID and related c
 hronic conditions.</p>\n
CATEGORIES:CEU Event
URL;VALUE=URI:https://www.progressvisible.com/mc-events/effects-of-long-cov
 id-implications-for-occupational-therapy-practice/
METHOD:PUBLISH
END:VEVENT
END:VCALENDAR