BEGIN:VCALENDAR
VERSION:2.0
PRODID:spatie/icalendar-generator
DESCRIPTION:Events from TNOTA
X-WR-CALDESC:Events from TNOTA
REFRESH-INTERVAL;VALUE=DURATION:PT1440M
X-PUBLISHED-TTL:PT1440M
BEGIN:VTIMEZONE
TZID:America/Chicago
BEGIN:STANDARD
DTSTART:20251102T020000Z
TZOFFSETFROM:-0500
TZOFFSETTO:-0600
END:STANDARD
BEGIN:DAYLIGHT
DTSTART:20260308T020000Z
TZOFFSETFROM:-0600
TZOFFSETTO:-0500
END:DAYLIGHT
BEGIN:STANDARD
DTSTART:20261101T020000Z
TZOFFSETFROM:-0500
TZOFFSETTO:-0600
END:STANDARD
END:VTIMEZONE
BEGIN:VTIMEZONE
TZID:UTC
BEGIN:STANDARD
DTSTART:20250726T103854Z
TZOFFSETFROM:+0000
TZOFFSETTO:+0000
END:STANDARD
END:VTIMEZONE
BEGIN:VEVENT
UID:44-25
DTSTAMP:20260422T103854Z
SUMMARY:Suicide Prevention Training
LOCATION:Virtual Meeting via Aspire OT
ORGANIZER;CN=TNOTA Support:MAILTO:zack@gpsforgrowth.com
DTSTART;TZID=America/Chicago:20260613T090000
DTEND;TZID=America/Chicago:20260613T110000
X-ALT-DESC;FMTTYPE=TEXT/HTML:<p>Saturday\, June 13\, 2026\, 9AM-11AM CDT //
  This suicide prevention training will equip occupational therapy practiti
 oners to be able to recognize signs of suicidality\, talk about suicidal i
 deation\, and provide resources as needed. Due to the sensitive nature of 
 the topic\, the course is limited to 60 participants.</p>\n
CATEGORIES:Suicide Prevention,  CEU Event
URL;VALUE=URI:https://www.progressvisible.com/mc-events/suicide-prevention-
 training-6/
METHOD:PUBLISH
END:VEVENT
END:VCALENDAR