BEGIN:VCALENDAR
VERSION:2.0
PRODID:spatie/icalendar-generator
DESCRIPTION:Events from TNOTA
X-WR-CALDESC:Events from TNOTA
REFRESH-INTERVAL;VALUE=DURATION:PT1440M
X-PUBLISHED-TTL:PT1440M
BEGIN:VTIMEZONE
TZID:America/Chicago
BEGIN:STANDARD
DTSTART:20251102T020000Z
TZOFFSETFROM:-0500
TZOFFSETTO:-0600
END:STANDARD
BEGIN:DAYLIGHT
DTSTART:20260308T020000Z
TZOFFSETFROM:-0600
TZOFFSETTO:-0500
END:DAYLIGHT
END:VTIMEZONE
BEGIN:VTIMEZONE
TZID:UTC
BEGIN:STANDARD
DTSTART:20250724T055002Z
TZOFFSETFROM:+0000
TZOFFSETTO:+0000
END:STANDARD
END:VTIMEZONE
BEGIN:VEVENT
UID:82-56
DTSTAMP:20260420T055002Z
SUMMARY:Hill Day Recap &amp;amp\; Advocacy Update Session
LOCATION:
ORGANIZER;CN=TNOTA Support:MAILTO:zack@gpsforgrowth.com
DTSTART;TZID=America/Chicago:20260401T180000
DTEND;TZID=America/Chicago:20260401T190000
X-ALT-DESC;FMTTYPE=TEXT/HTML:Wednesday\, April 1\, 2026 6:00 pm - 7:00 pm C
 entral Time Virtual meeting via Zoom Brief Description: In this webinar\, 
 presenters will share their insight\, experiences\, and advice for advocat
 ing for occupational therapy\, especially in relation to Hill Day in Nashv
 ille on February 25\, 2026. In addition\, participants who attended Hill D
 ay will be invited&amp;hellip\;
CATEGORIES:CEU Event
URL;VALUE=URI:https://www.progressvisible.com/mc-events/hill-day-recap-advo
 cacy-update-session/
METHOD:PUBLISH
END:VEVENT
END:VCALENDAR